BEGIN:VCALENDAR
VERSION:2.0
PRODID:-//Sabre//Sabre VObject 4.5.8//EN
CALSCALE:GREGORIAN
BEGIN:VEVENT
UID:sabre-vobject-11c3551a-11c4-4bc7-9bad-ef99ea30ff3e
DTSTAMP:20260425T123839Z
METHOD:PUBLISH
SUMMARY:Webinar - Personal | Fehlerkultur einer Zahnarztpraxis
DTSTART:20260429T160000Z
LOCATION:
URL;VALUE=URI:https://www.plandent.de/
DTEND:20260429T173000Z
END:VEVENT
END:VCALENDAR
