BEGIN:VCALENDAR
VERSION:2.0
PRODID:-//Sabre//Sabre VObject 4.5.8//EN
CALSCALE:GREGORIAN
BEGIN:VEVENT
UID:sabre-vobject-eee72fab-5b2b-48c3-97ea-b3407ba5128b
DTSTAMP:20260419T111636Z
METHOD:PUBLISH
SUMMARY:Security Awareness in der Zahnarztpraxis und in zahntechnischen Lab
 oren
DTSTART:20260429T120000Z
LOCATION:
URL;VALUE=URI:https://www.plandent.de/
DTEND:20260429T140000Z
END:VEVENT
END:VCALENDAR
